BEGIN:VCALENDAR
VERSION:2.0
PRODID:-//eventon.com NONSGML v1.0//EN
CALSCALE:GREGORIAN
METHOD:PUBLISH
BEGIN:VEVENT
UID:69e5ea105ede5
DTSTAMP:20260420T085544Z
DTSTART:20191115T190000Z
DTEND:20191115T235000Z
LOCATION:Complexe Élodie-P.-Babin 2225 route Édouard-VII
SUMMARY:Présentation du film "Le roi lion"
DESCRIPTION:Gratuit\,  apportez votre pop corn! Classement général\,  dé
 conseillé aux jeunes enfants Au fond de la savane africaine\,  tous les an
 imaux célèbrent la naissance de Simba\,  leur futur roi. Les mois passent
 . Simba idolâtre son père\,  le roi Mufasa\,  qui prend à ceur de lui fa
 ire comprendre les enjeux de sa[..]\nhttps://ville.saintphilippe.quebec/eve
 nement/presentation-du-film-le-roi-lion/
URL:https://ville.saintphilippe.quebec/evenement/presentation-du-film-le-roi-lion/
END:VEVENT
END:VCALENDAR